BEGIN:VCALENDAR
VERSION:2.0
PRODID:-//Silence Guelph - ECPv6.15.20//NONSGML v1.0//EN
CALSCALE:GREGORIAN
METHOD:PUBLISH
X-ORIGINAL-URL:https://silencesounds.ca
X-WR-CALDESC:Events for Silence Guelph
REFRESH-INTERVAL;VALUE=DURATION:PT1H
X-Robots-Tag:noindex
X-PUBLISHED-TTL:PT1H
BEGIN:VTIMEZONE
TZID:UTC
BEGIN:STANDARD
TZOFFSETFROM:+0000
TZOFFSETTO:+0000
TZNAME:UTC
DTSTART:20240101T000000
END:STANDARD
END:VTIMEZONE
BEGIN:VEVENT
DTSTART;TZID=UTC:20251101T200000
DTEND;TZID=UTC:20251101T220000
DTSTAMP:20260423T094503
CREATED:20250823T231025Z
LAST-MODIFIED:20250823T231025Z
UID:25619-1762027200-1762034400@silencesounds.ca
SUMMARY:Silence Presents: We Three ft. Ilios Steryannis
DESCRIPTION:
URL:https://silencesounds.ca/event/silence-presents-we-three-ft-ilios-steryannis/
LOCATION:ON
CATEGORIES:Live Music,Silence Event
ATTACH;FMTTYPE=image/jpeg:https://silencesounds.ca/wp-content/uploads/2025/08/https___cdn.evbuc_.com_images_1091605913_143667621573_1_original.jpeg
END:VEVENT
BEGIN:VEVENT
DTSTART;TZID=UTC:20251120T200000
DTEND;TZID=UTC:20251120T220000
DTSTAMP:20260423T094503
CREATED:20250823T231212Z
LAST-MODIFIED:20251104T053816Z
UID:25621-1763668800-1763676000@silencesounds.ca
SUMMARY:Silence Presents: Lori Cullen & Michelle Willis: Winter Amity Tour
DESCRIPTION:
URL:https://silencesounds.ca/event/silence-presents-lori-cullen-michelle-willis-winter-amity-tour/
LOCATION:ON
CATEGORIES:Live Music,Silence Event
ATTACH;FMTTYPE=image/jpeg:https://silencesounds.ca/wp-content/uploads/2025/08/https___cdn.evbuc_.com_images_1089745713_143667621573_1_original.jpeg
END:VEVENT
END:VCALENDAR