BEGIN:VCALENDAR
VERSION:2.0
PRODID:-//Silence Guelph - ECPv6.15.20//NONSGML v1.0//EN
CALSCALE:GREGORIAN
METHOD:PUBLISH
X-WR-CALNAME:Silence Guelph
X-ORIGINAL-URL:https://silencesounds.ca
X-WR-CALDESC:Events for Silence Guelph
REFRESH-INTERVAL;VALUE=DURATION:PT1H
X-Robots-Tag:noindex
X-PUBLISHED-TTL:PT1H
BEGIN:VTIMEZONE
TZID:UTC
BEGIN:STANDARD
TZOFFSETFROM:+0000
TZOFFSETTO:+0000
TZNAME:UTC
DTSTART:20240101T000000
END:STANDARD
END:VTIMEZONE
BEGIN:VEVENT
DTSTART;TZID=UTC:20260411T200000
DTEND;TZID=UTC:20260411T230000
DTSTAMP:20260421T195010
CREATED:20260319T204013Z
LAST-MODIFIED:20260327T173508Z
UID:25856-1775937600-1775948400@silencesounds.ca
SUMMARY:Brilliant Corners - Rich Brown's Quartet
DESCRIPTION:Sat April 11th\, 2026\nDoors: 7:30 PM\nShow: 8:00 PM \nBrilliant Corners: Rich Brown’s Quartet \nBrilliant Corners: A Silence Jazz Series \nSeven intimate live performances featuring Canada’s finest jazz instrumentalists and a distinguished international guest Tim Hagans. \nWhere exceptional music meets meaningful community in Guelph’s Silence listening room—a space designed for retreat\, connection\, and deep listening. \nRich Brown\nToronto-born electric bassist Rich Brown has established himself as an incredibly versatile artist. Along with being one of the most called upon electric bass players in Canada\, Rich is additionally a composer\, producer\, bandleader\, educator and clinician\, broadcaster\, and voiceover artist. He has recorded three albums as a leader\, and appears as a sideman on a plethora of recordings ranging from Jazz to Funk to traditional Arabic and Asian music. \nBrown has performed with a wide variety of artists including Rudresh Mahanthappa\, Steve Coleman\, Angelique Kidjo\, Kurt Elling\, and James Blood Ulmer among many others. He leads two groups—rinsethealgorithm and The Abeng—and was nominated for a JUNO Award in 2016 for his album Abeng.
URL:https://silencesounds.ca/event/brilliant-corners-rich-browns-quartet/
LOCATION:Silence\, 46 Essex Street\, Guelph\, ON\, N1H 3K8\, Canada
CATEGORIES:Brilliant Corners,Jazz,Live Music,Silence Event
ATTACH;FMTTYPE=image/jpeg:https://silencesounds.ca/wp-content/uploads/2026/03/1774052115620-ba4ea6ce-7054-435b-8d72-af7e1d4c0eb1_1.jpg
END:VEVENT
BEGIN:VEVENT
DTSTART;TZID=UTC:20260131T200000
DTEND;TZID=UTC:20260131T230000
DTSTAMP:20260421T195010
CREATED:20251219T000917Z
LAST-MODIFIED:20260130T200235Z
UID:25645-1769889600-1769900400@silencesounds.ca
SUMMARY:Silence Presents: We Three ft Ilios Steryannis
DESCRIPTION:Doors at 7:30 \nComing together under unusual circumstances\, the members of piano trio We Three found a common thread in their mutual appreciation for pianist Phineas Newborn. They quickly decided to add Newborn’s entire 1958 album We Three to their repertoire\, a classic piano trio record that features Roy Haynes and Paul Chambers. Since then\, Josh Smiley on piano\, Bennett Young on bass and Ilios Steryannis on drums have added other composers to their playlist\, including Oscar Pettiford\, Benny Golson\, and the late and dearly missed Toronto musician Julia Cleveland.
URL:https://silencesounds.ca/event/silence-presents-we-three-ft-ilios-steryannis-2/
LOCATION:Silence\, 46 Essex Street\, Guelph\, ON\, N1H 3K8\, Canada
CATEGORIES:Jazz,Live Music,Rental,Silence Event
ATTACH;FMTTYPE=image/jpeg:https://silencesounds.ca/wp-content/uploads/2025/08/https___cdn.evbuc_.com_images_1091605913_143667621573_1_original.jpeg
END:VEVENT
BEGIN:VEVENT
DTSTART;TZID=UTC:20251012T190000
DTEND;TZID=UTC:20251012T220000
DTSTAMP:20260421T195010
CREATED:20250823T230756Z
LAST-MODIFIED:20250823T230756Z
UID:25618-1760295600-1760306400@silencesounds.ca
SUMMARY:Silence Presents: Monthly Jazz Jam
DESCRIPTION:
URL:https://silencesounds.ca/event/silence-presents-monthly-jazz-jam/
LOCATION:ON
CATEGORIES:Jazz,Live Music,Silence Event
END:VEVENT
END:VCALENDAR