BEGIN:VCALENDAR
VERSION:2.0
PRODID:-//Silence Guelph - ECPv6.15.20//NONSGML v1.0//EN
CALSCALE:GREGORIAN
METHOD:PUBLISH
X-WR-CALNAME:Silence Guelph
X-ORIGINAL-URL:https://silencesounds.ca
X-WR-CALDESC:Events for Silence Guelph
REFRESH-INTERVAL;VALUE=DURATION:PT1H
X-Robots-Tag:noindex
X-PUBLISHED-TTL:PT1H
BEGIN:VTIMEZONE
TZID:UTC
BEGIN:STANDARD
TZOFFSETFROM:+0000
TZOFFSETTO:+0000
TZNAME:UTC
DTSTART:20250101T000000
END:STANDARD
END:VTIMEZONE
BEGIN:VEVENT
DTSTART;TZID=UTC:20260313T080000
DTEND;TZID=UTC:20260313T230000
DTSTAMP:20260422T083155
CREATED:20260224T213500Z
LAST-MODIFIED:20260224T213553Z
UID:25763-1773388800-1773442800@silencesounds.ca
SUMMARY:Red Output with Lady Marge @ Silence
DESCRIPTION:Doors: 7:30PM\nShow: 8PM\ncome check out some huge tunes\n\n\n\nRed Output\, a saucy quartet out of Guelph\, play cutting-edge\, razor sharp\, alternative/post-punk.\nWith a boastable collection of original\, dynamic\, punchy earworms\, Red Output has been tearing up the stage with an in-your-face sonic fingerprint and exuberant stage presence for several years. They have played many headlining shows throughout Ontario and Quebec as well as opening for big names like Pacifica\, Motherfolk\, Hotel Mira\, and Texas King.
URL:https://silencesounds.ca/event/red-output-with-lady-marge-silence/
LOCATION:Silence\, 46 Essex Street\, Guelph\, ON\, N1H 3K8\, Canada
CATEGORIES:Live Music,Pipedown
ATTACH;FMTTYPE=image/png:https://silencesounds.ca/wp-content/uploads/2026/02/MARCH-13TH-@-SILENCE.png
END:VEVENT
END:VCALENDAR