BEGIN:VCALENDAR
VERSION:2.0
PRODID:-//Silence Guelph - ECPv6.15.20//NONSGML v1.0//EN
CALSCALE:GREGORIAN
METHOD:PUBLISH
X-ORIGINAL-URL:https://silencesounds.ca
X-WR-CALDESC:Events for Silence Guelph
REFRESH-INTERVAL;VALUE=DURATION:PT1H
X-Robots-Tag:noindex
X-PUBLISHED-TTL:PT1H
BEGIN:VTIMEZONE
TZID:UTC
BEGIN:STANDARD
TZOFFSETFROM:+0000
TZOFFSETTO:+0000
TZNAME:UTC
DTSTART:20240101T000000
END:STANDARD
END:VTIMEZONE
BEGIN:VEVENT
DTSTART;TZID=UTC:20250920T190000
DTEND;TZID=UTC:20250920T210000
DTSTAMP:20260423T145712
CREATED:20250823T230241Z
LAST-MODIFIED:20250823T230459Z
UID:25616-1758394800-1758402000@silencesounds.ca
SUMMARY:Onion Honey
DESCRIPTION:
URL:https://silencesounds.ca/event/onion-honey/
LOCATION:ON
CATEGORIES:Live Music
ATTACH;FMTTYPE=image/jpeg:https://silencesounds.ca/wp-content/uploads/2025/08/Onion-Honey.jpg
END:VEVENT
END:VCALENDAR