BEGIN:VCALENDAR
VERSION:2.0
PRODID:-//Silence Guelph - ECPv6.15.20//NONSGML v1.0//EN
CALSCALE:GREGORIAN
METHOD:PUBLISH
X-WR-CALNAME:Silence Guelph
X-ORIGINAL-URL:https://silencesounds.ca
X-WR-CALDESC:Events for Silence Guelph
REFRESH-INTERVAL;VALUE=DURATION:PT1H
X-Robots-Tag:noindex
X-PUBLISHED-TTL:PT1H
BEGIN:VTIMEZONE
TZID:UTC
BEGIN:STANDARD
TZOFFSETFROM:+0000
TZOFFSETTO:+0000
TZNAME:UTC
DTSTART:20240101T000000
END:STANDARD
END:VTIMEZONE
BEGIN:VEVENT
DTSTART;TZID=UTC:20250914T150000
DTEND;TZID=UTC:20250914T180000
DTSTAMP:20260425T103608
CREATED:20250823T225848Z
LAST-MODIFIED:20250823T230334Z
UID:25614-1757862000-1757872800@silencesounds.ca
SUMMARY:Silence Presents: Monthly Jazz Jam
DESCRIPTION:
URL:https://silencesounds.ca/event/monthly-jazz-jam/
LOCATION:ON
CATEGORIES:Silence Event
END:VEVENT
END:VCALENDAR